BEGIN:VCALENDAR
VERSION:2.0
PRODID:-//Tamoievents.com - ECPv6.15.20//NONSGML v1.0//EN
CALSCALE:GREGORIAN
METHOD:PUBLISH
X-WR-CALNAME:Tamoievents.com
X-ORIGINAL-URL:https://tamoievents.com
X-WR-CALDESC:Events for Tamoievents.com
REFRESH-INTERVAL;VALUE=DURATION:PT1H
X-Robots-Tag:noindex
X-PUBLISHED-TTL:PT1H
BEGIN:VTIMEZONE
TZID:UTC
BEGIN:STANDARD
TZOFFSETFROM:+0000
TZOFFSETTO:+0000
TZNAME:UTC
DTSTART:20240101T000000
END:STANDARD
END:VTIMEZONE
BEGIN:VEVENT
DTSTART;TZID=UTC:20251129T180000
DTEND;TZID=UTC:20251129T180000
DTSTAMP:20260425T104029
CREATED:20250911T121806Z
LAST-MODIFIED:20250911T205915Z
UID:2127-1764439200-1764439200@tamoievents.com
SUMMARY:Different Strokes Retro Party
DESCRIPTION: 
URL:https://tamoievents.com/event/different-strokes-reggae-party/
LOCATION:FL
CATEGORIES:Event,Jamaica
ATTACH;FMTTYPE=image/jpeg:https://tamoievents.com/wp-content/uploads/2025/09/FB_IMG_1757620448195.jpg
END:VEVENT
BEGIN:VEVENT
DTSTART;TZID=UTC:20251122T000000
DTEND;TZID=UTC:20251122T235959
DTSTAMP:20260425T104029
CREATED:20251107T122759Z
LAST-MODIFIED:20251107T173133Z
UID:2177-1763769600-1763855999@tamoievents.com
SUMMARY:Gramps Morgan - "No Water in My Whiskey" Tour - @ The Banyan LIVE
DESCRIPTION:
URL:https://tamoievents.com/event/gramps-morgan-no-water-in-my-whiskey-tour-the-banyan-live/
LOCATION:FL
CATEGORIES:Florida,Tour
ATTACH;FMTTYPE=image/png:https://tamoievents.com/wp-content/uploads/2025/11/Screenshot_20251107-122413.png
END:VEVENT
BEGIN:VEVENT
DTSTART;TZID=UTC:20251115T000000
DTEND;TZID=UTC:20251115T235959
DTSTAMP:20260425T104029
CREATED:20251107T121327Z
LAST-MODIFIED:20251107T171948Z
UID:2173-1763164800-1763251199@tamoievents.com
SUMMARY:BRT All White Benefit Concert
DESCRIPTION:
URL:https://tamoievents.com/event/brt-all-white-benefit-concert/
LOCATION:FL
CATEGORIES:Festival
ATTACH;FMTTYPE=image/png:https://tamoievents.com/wp-content/uploads/2025/11/Screenshot_20251107-102405.png
END:VEVENT
BEGIN:VEVENT
DTSTART;TZID=UTC:20251113T000000
DTEND;TZID=UTC:20251116T235959
DTSTAMP:20260425T104029
CREATED:20250724T203033Z
LAST-MODIFIED:20251107T163233Z
UID:2031-1762992000-1763337599@tamoievents.com
SUMMARY:Jamaica Food & Drink Festival 2025
DESCRIPTION:
URL:https://tamoievents.com/event/jamaica-food-drink-festival-2025/
LOCATION:FL
END:VEVENT
BEGIN:VEVENT
DTSTART;TZID=UTC:20251109T160000
DTEND;TZID=UTC:20251109T220000
DTSTAMP:20260425T104029
CREATED:20251107T161444Z
LAST-MODIFIED:20251107T161445Z
UID:2169-1762704000-1762725600@tamoievents.com
SUMMARY:90s REWIND - Ft Cham
DESCRIPTION:
URL:https://tamoievents.com/event/90s-rewind-ft-cham-2/
LOCATION:The Promenade Lawn\, 190 E 13TH STREET\, Riviera Beach\, FL\, 33404\, United States
CATEGORIES:Event,Florida
ATTACH;FMTTYPE=image/jpeg:https://tamoievents.com/wp-content/uploads/2025/11/baby-Cham-90s-REWIND-.jpg
END:VEVENT
BEGIN:VEVENT
DTSTART;TZID=UTC:20251109T130000
DTEND;TZID=UTC:20251109T220000
DTSTAMP:20260425T104029
CREATED:20250911T121820Z
LAST-MODIFIED:20250911T195713Z
UID:2119-1762693200-1762725600@tamoievents.com
SUMMARY:Grace Jamaican Jerk Festival 2025
DESCRIPTION:
URL:https://tamoievents.com/event/grace-jamaican-jerk-festival-2025-2/
LOCATION:Miramar Regional Park\, 16801 Miramar Pkwy\, Miramar\, FL\, 33027\, United States
CATEGORIES:Festival,Festival,Florida
ATTACH;FMTTYPE=image/jpeg:https://tamoievents.com/wp-content/uploads/2025/09/GRACE-jamaican-jerk-fest-2025.jpg
END:VEVENT
BEGIN:VEVENT
DTSTART;TZID=UTC:20251108T120000
DTEND;TZID=UTC:20251108T170000
DTSTAMP:20260425T104029
CREATED:20251107T110811Z
LAST-MODIFIED:20251107T160937Z
UID:2165-1762603200-1762621200@tamoievents.com
SUMMARY:SupaJamz Radio - Fish Fry & BBQ
DESCRIPTION:  \n 
URL:https://tamoievents.com/event/supajamz-radio-fish-fry-bbq/
LOCATION:Supa Jamaz Radio\, 1860 Old Okeechobee Blvd\, West Palm Beach\, FL\, 33409\, United States
CATEGORIES:Event,Florida
ATTACH;FMTTYPE=image/png:https://tamoievents.com/wp-content/uploads/2025/11/Screenshot_20251107-095105.png
END:VEVENT
BEGIN:VEVENT
DTSTART;TZID=UTC:20251107T100000
DTEND;TZID=UTC:20251109T200000
DTSTAMP:20260425T104029
CREATED:20250908T213719Z
LAST-MODIFIED:20251107T163650Z
UID:2102-1762509600-1762718400@tamoievents.com
SUMMARY:Treasure Beach Food\, Rum & Reggae Festival
DESCRIPTION:
URL:https://tamoievents.com/event/treasure-beach-food-rum-reggae-festival/
LOCATION:Treasure Beach Jamaica\, Treasure Beach\, Jamaica
CATEGORIES:Festival,Jamaica
ATTACH;FMTTYPE=image/webp:https://tamoievents.com/wp-content/uploads/2025/09/tb-food-rum-general.webp
END:VEVENT
BEGIN:VEVENT
DTSTART;TZID=UTC:20251027T080000
DTEND;TZID=UTC:20251101T170000
DTSTAMP:20260425T104029
CREATED:20250629T052001Z
LAST-MODIFIED:20250629T052757Z
UID:1955-1761552000-1762016400@tamoievents.com
SUMMARY:Welcome to Jamrock Reggae Cruise
DESCRIPTION:  \nPerformances by:  Junior Reid\, Ghost\, Pressure Busspipe\, Cham\, Chronic Law\, Louie Culture\, Professor Nuts\, Damian Jr. Gong Marley & Stephen Marley\, Shabba Ranks\, Ding Dong & Ravers Clavers\, Sizzla\, Valiant\, Super Cat\, Shenseea\, Tarrus Riley & more
URL:https://tamoievents.com/event/welcome-to-jamrock-reggae-cruise/
LOCATION:FL
CATEGORIES:Jamaica
ATTACH;FMTTYPE=image/jpeg:https://tamoievents.com/wp-content/uploads/2025/06/images.-w2jc.jpg
END:VEVENT
BEGIN:VEVENT
DTSTART;TZID=UTC:20251025T200000
DTEND;TZID=UTC:20251025T200000
DTSTAMP:20260425T104029
CREATED:20250822T003447Z
LAST-MODIFIED:20250823T003521Z
UID:2082-1761422400-1761422400@tamoievents.com
SUMMARY:Lighthouse series: Double Trouble : MARCIA GRIFFITHS & TANYA STEPHENS
DESCRIPTION:
URL:https://tamoievents.com/event/lighthouse-series-double-trouble-marcia-griffiths-tanya-stephens/
LOCATION:Lover’s Leap\, St. Elizabeth\, St Elizabeth\, Jamaica
CATEGORIES:Event,Jamaica
END:VEVENT
BEGIN:VEVENT
DTSTART;TZID=UTC:20251020T000000
DTEND;TZID=UTC:20251020T235959
DTSTAMP:20260425T104029
CREATED:20250920T213759Z
LAST-MODIFIED:20250920T214406Z
UID:2139-1760918400-1761004799@tamoievents.com
SUMMARY:Sharkies Seafood Festival
DESCRIPTION:
URL:https://tamoievents.com/event/sharkies-seafood-festival/
LOCATION:Sharkies Beach\, Salem\, Runaway Bay\, Saint Ann\, Jamaica
CATEGORIES:Festival
ATTACH;FMTTYPE=image/png:https://tamoievents.com/wp-content/uploads/2025/09/Sharkies-Seafood-Festival-2025.png
END:VEVENT
BEGIN:VEVENT
DTSTART;TZID=UTC:20251019T000000
DTEND;TZID=UTC:20251019T235959
DTSTAMP:20260425T104029
CREATED:20250630T120402Z
LAST-MODIFIED:20250701T125028Z
UID:1977-1760832000-1760918399@tamoievents.com
SUMMARY:RISE TO THE OCCASION - Celebrating 30 Years of SIZZLA KALONJI
DESCRIPTION:
URL:https://tamoievents.com/event/rise-to-the-occasion-celebrating-30-years-of-sizzla-kalonji/
LOCATION:Sabina Park\, Kingston JA\, 24 S. Camp Road\, Kingston\, Jamaica
CATEGORIES:Jamaica
ATTACH;FMTTYPE=image/jpeg:https://tamoievents.com/wp-content/uploads/2025/07/Sizzla_30_Flyer__story__-QOIl-PhJ.jpg
END:VEVENT
BEGIN:VEVENT
DTSTART;TZID=UTC:20251018T120000
DTEND;TZID=UTC:20251018T210000
DTSTAMP:20260425T104029
CREATED:20250613T124614Z
LAST-MODIFIED:20250908T210056Z
UID:1887-1760788800-1760821200@tamoievents.com
SUMMARY:Palm Bay Food & Reggae Fest
DESCRIPTION:
URL:https://tamoievents.com/event/palm-bay-food-reggae-fest/
LOCATION:Fred Poppe Regional Park\, 1951 Malabar Rd.\, Palm Bay\, FL\, 32907\, United States
CATEGORIES:Festival,Festival,Florida
ATTACH;FMTTYPE=image/webp:https://tamoievents.com/wp-content/uploads/2025/06/oct-18th-raff-2025___25104057645.webp
END:VEVENT
BEGIN:VEVENT
DTSTART;TZID=UTC:20251018T000000
DTEND;TZID=UTC:20251018T235959
DTSTAMP:20260425T104029
CREATED:20250920T215410Z
LAST-MODIFIED:20251017T213104Z
UID:2144-1760745600-1760831999@tamoievents.com
SUMMARY:CENTRAL FLORIDA FALL FESTIVAL
DESCRIPTION:
URL:https://tamoievents.com/event/orlando-fall-festival/
LOCATION:RAS STATE\, 9117 Jack Underwood Rd\, Clermont\, FL\, United States
CATEGORIES:Festival,Florida
END:VEVENT
BEGIN:VEVENT
DTSTART;TZID=UTC:20250928T120000
DTEND;TZID=UTC:20250928T220000
DTSTAMP:20260425T104029
CREATED:20250125T032618Z
LAST-MODIFIED:20250908T223701Z
UID:1650-1759060800-1759096800@tamoievents.com
SUMMARY:REBEL SALUTE - HEADS TO FLORIDA!
DESCRIPTION:  \nRebel Salute\, one of Jamaica’s most celebrated cultural festivals\, will take its legacy abroad for the first time in its 31-year history. Founder Tony Rebel confirmed plans to stage the iconic event in Florida. Initially scheduled for April 20\, 2025\, a date globally recognized as 4/20 in cannabis culture\, the event was announced with a new date of September 28th 2025. \nFull details of the Florida event are yet to be released but listed as “Rebel Salute Miami” on the festival’s IG page\, hinting at a South Florida staging! \n  \n  \n  \nEvery January\, thousands of reggae music lovers make the pilgrimage to Rebel Salute in Jamaica for a world-class event that delivers a spectacular experience of authentic roots reggae\, wholesome culture and healthy living. Reggae artiste Tony Rebel pioneered and has preserved a unique family-friendly event that promotes the most positive aspects of reggae music\, and by extension the best of Jamaican culture. Earlier this year Rebel Salute celebrated it’s 31st anniversary in Jamaica and the anticipation for the Florida event is high!
URL:https://tamoievents.com/event/rebel-salute-heads-to-florida/
LOCATION:FL
CATEGORIES:Festival,Florida
ATTACH;FMTTYPE=image/jpeg:https://tamoievents.com/wp-content/uploads/2025/01/Rebel-Salute-Miramar.jpg
END:VEVENT
BEGIN:VEVENT
DTSTART;TZID=UTC:20250927T130000
DTEND;TZID=UTC:20250927T210000
DTSTAMP:20260425T104029
CREATED:20250911T123659Z
LAST-MODIFIED:20250911T195934Z
UID:2121-1758978000-1759006800@tamoievents.com
SUMMARY:Fest of Fall - Caribbean Wine\, Food & Music
DESCRIPTION:
URL:https://tamoievents.com/event/fest-of-fall-caribbean-wine-food-music/
LOCATION:Carroll Park\, 1500 Washington Blvd.\, Baltimore\, FL\, 21230\, United States
CATEGORIES:Festival
ATTACH;FMTTYPE=image/jpeg:https://tamoievents.com/wp-content/uploads/2025/09/IMG_9634_752BF157-FB58-3FF3-2E996E5254B9136D_754cd7cf-b012-5cf6-c4b250ba7b59a364_events-610x0-c-default.jpg
END:VEVENT
BEGIN:VEVENT
DTSTART;TZID=UTC:20250926T220000
DTEND;TZID=UTC:20250926T233000
DTSTAMP:20260425T104029
CREATED:20250920T212031Z
LAST-MODIFIED:20250920T212221Z
UID:2135-1758924000-1758929400@tamoievents.com
SUMMARY:Ghandi Earthstrong
DESCRIPTION:
URL:https://tamoievents.com/event/ghandi-earthstrong/
LOCATION:Caribbean Tease Lounge\, 6295 Lake Worth Rd\, Greenacres\, FL\, 33463\, United States
CATEGORIES:Florida,Party
ATTACH;FMTTYPE=image/jpeg:https://tamoievents.com/wp-content/uploads/2025/09/Ghandi-EarthStrong--e1758403209600.jpg
END:VEVENT
BEGIN:VEVENT
DTSTART;TZID=UTC:20250920T000000
DTEND;TZID=UTC:20250921T235959
DTSTAMP:20260425T104029
CREATED:20250629T000442Z
LAST-MODIFIED:20250629T035239Z
UID:1942-1758326400-1758499199@tamoievents.com
SUMMARY:Stylin' 2025
DESCRIPTION:
URL:https://tamoievents.com/event/stylin-2025/
LOCATION:Lauderhill Performing Arts Center\, 3800 NW 11th Place\, Lauderhill\, FL\, United States
CATEGORIES:Event,Florida
END:VEVENT
BEGIN:VEVENT
DTSTART;TZID=UTC:20250912T080000
DTEND;TZID=UTC:20250915T170000
DTSTAMP:20260425T104029
CREATED:20250125T181817Z
LAST-MODIFIED:20250125T181817Z
UID:1673-1757664000-1757955600@tamoievents.com
SUMMARY:SupaJamz Sail Away - 3 day party Cruise
DESCRIPTION:
URL:https://tamoievents.com/event/supajamz-sail-away-3-day-party-cruise/
LOCATION:Port of Palm Beach\, 1 EAST 11TH ST\, Riviera Beach\, FL\, 33404\, United States
CATEGORIES:Florida,Party
ATTACH;FMTTYPE=image/jpeg:https://tamoievents.com/wp-content/uploads/2025/01/supa-jamz-sail-away.jpg
END:VEVENT
BEGIN:VEVENT
DTSTART;TZID=UTC:20250831T160000
DTEND;TZID=UTC:20250831T220000
DTSTAMP:20260425T104029
CREATED:20250701T155920Z
LAST-MODIFIED:20250701T155920Z
UID:2011-1756656000-1756677600@tamoievents.com
SUMMARY:90s REWIND - Ft CHAM
DESCRIPTION:
URL:https://tamoievents.com/event/90s-rewind-ft-cham/
LOCATION:Promenade Lawn\, 200 E. 13th St\, Riviera Beach\, FL\, 33404\, United States
CATEGORIES:Event,Florida
END:VEVENT
BEGIN:VEVENT
DTSTART;TZID=UTC:20250824T150000
DTEND;TZID=UTC:20250824T210000
DTSTAMP:20260425T104029
CREATED:20250822T002711Z
LAST-MODIFIED:20250823T210846Z
UID:2090-1756047600-1756069200@tamoievents.com
SUMMARY:Mojito In the Sun
DESCRIPTION:
URL:https://tamoievents.com/event/mojito-in-the-sun/
LOCATION:Brian Piccolo Park\, 9501 Sheridan St.\, Cooper City\, Florida\, 33024
CATEGORIES:Event,Florida
END:VEVENT
BEGIN:VEVENT
DTSTART;TZID=UTC:20250823T193000
DTEND;TZID=UTC:20250823T230000
DTSTAMP:20260425T104029
CREATED:20250701T124146Z
LAST-MODIFIED:20250701T124146Z
UID:1981-1755977400-1755990000@tamoievents.com
SUMMARY:Love & Reggae : ft Beres Hammond & Friends
DESCRIPTION:
URL:https://tamoievents.com/event/love-reggae-ft-beres-hammond-friends/
LOCATION:Ovens Auditorium\, 2900 E Independence Blvd.\, Charlotte\, NC\, 28205\, United States
CATEGORIES:Event,United States
ATTACH;FMTTYPE=image/png:https://tamoievents.com/wp-content/uploads/2025/07/share_2412492971892050504.png
END:VEVENT
BEGIN:VEVENT
DTSTART;TZID=UTC:20250817T140000
DTEND;TZID=UTC:20250817T220000
DTSTAMP:20260425T104029
CREATED:20250613T122054Z
LAST-MODIFIED:20250724T205919Z
UID:1892-1755439200-1755468000@tamoievents.com
SUMMARY:Freddie McGregor & Friends
DESCRIPTION:
URL:https://tamoievents.com/event/freddie-mcgregor-friends/
LOCATION:Sunset Cove Amphitheater\, 20405 Amphitheater Circle\, Boca Raton\, FL\, 33498\, United States
CATEGORIES:Festival,Festival,Florida
ATTACH;FMTTYPE=image/jpeg:https://tamoievents.com/wp-content/uploads/2025/06/FB_IMG_1753390361279.jpg
END:VEVENT
BEGIN:VEVENT
DTSTART;TZID=UTC:20250816T120000
DTEND;TZID=UTC:20250816T210000
DTSTAMP:20260425T104029
CREATED:20250510T005514Z
LAST-MODIFIED:20250724T203304Z
UID:1833-1755345600-1755378000@tamoievents.com
SUMMARY:3rd Annual - Marcus Garvey Music Fest
DESCRIPTION:3rd Annual – Marcus Garvey Music Fest\n  \n \nMarcus Garvey Music Fest 2025
URL:https://tamoievents.com/event/3rd-annual-marcus-garvey-music-fest/
LOCATION:RAS STATE\, 9117 Jack Underwood Rd\, Clermont\, FL\, United States
CATEGORIES:Festival,Festival,Florida
ATTACH;FMTTYPE=image/jpeg:https://tamoievents.com/wp-content/uploads/2025/05/IMG-20250418-WA0000-e1746838475748.jpg
END:VEVENT
BEGIN:VEVENT
DTSTART;TZID=UTC:20250810T120000
DTEND;TZID=UTC:20250810T163000
DTSTAMP:20260425T104029
CREATED:20250808T140648Z
LAST-MODIFIED:20250808T181122Z
UID:2072-1754827200-1754843400@tamoievents.com
SUMMARY:Jamaica Independence POP-UP Brunch
DESCRIPTION:
URL:https://tamoievents.com/event/jamaica-independence-pop-up-brunch/
LOCATION:True Island Restaurant & Grille\, 875 Woodbury Rd. Ste 108\, Orlando\, FL\, 32828\, United States
CATEGORIES:Florida,Party
ATTACH;FMTTYPE=image/jpeg:https://tamoievents.com/wp-content/uploads/2025/08/https___cdn.evbuc_.com_images_1086007843_195375431170_1_original-1.jpg
END:VEVENT
BEGIN:VEVENT
DTSTART;TZID=UTC:20250809T170000
DTEND;TZID=UTC:20250809T220000
DTSTAMP:20260425T104029
CREATED:20250613T195926Z
LAST-MODIFIED:20250724T031843Z
UID:1898-1754758800-1754776800@tamoievents.com
SUMMARY:Port St Lucie's Annual: Independence Day Celebration
DESCRIPTION:
URL:https://tamoievents.com/event/port-st-lucies-annual-independence-day-celebration/
LOCATION:Clover Field Park @ the METS Stadium\, 31 Piazza Dr.\, Port St Lucie\, 34986\, United States
CATEGORIES:Festival,Festival,Florida
ATTACH;FMTTYPE=image/jpeg:https://tamoievents.com/wp-content/uploads/2025/06/IMG_20250613_133854_044.jpg
END:VEVENT
BEGIN:VEVENT
DTSTART;TZID=UTC:20250803T180000
DTEND;TZID=UTC:20250803T230000
DTSTAMP:20260425T104029
CREATED:20250629T043114Z
LAST-MODIFIED:20250724T194010Z
UID:1950-1754244000-1754262000@tamoievents.com
SUMMARY:Solid As A Rock - Jamaica 63rd Independence Celebration
DESCRIPTION: 
URL:https://tamoievents.com/event/solid-as-a-rock-jamaica-63rd-independence-celebration/
LOCATION:Lauderhill Performing Arts Center\, 3800 NW 11th Place\, Lauderhill\, FL\, United States
CATEGORIES:Event,Florida
ATTACH;FMTTYPE=image/png:https://tamoievents.com/wp-content/uploads/2025/06/Sizzla-m-Lauderhill-JA-Independence.png
END:VEVENT
BEGIN:VEVENT
DTSTART;TZID=UTC:20250802T140000
DTEND;TZID=UTC:20250802T220000
DTSTAMP:20260425T104029
CREATED:20250208T032414Z
LAST-MODIFIED:20250724T030555Z
UID:1684-1754143200-1754172000@tamoievents.com
SUMMARY:Palm Beach Jammin Fest 2025 (Jamaica Independence)
DESCRIPTION:  \n \n \n 
URL:https://tamoievents.com/event/palm-beach-jammin-fest-2025-jamaica-independence/
LOCATION:John Prince Park\, 2700 6th Ave. S.\, Lake Worth\, 33461\, United States
CATEGORIES:Festival,Festival,Florida
ATTACH;FMTTYPE=image/webp:https://tamoievents.com/wp-content/uploads/2025/02/PB-JAMMIN-FEST-OVERALL.webp
END:VEVENT
BEGIN:VEVENT
DTSTART;TZID=UTC:20250802T000000
DTEND;TZID=UTC:20250802T235959
DTSTAMP:20260425T104029
CREATED:20250724T191535Z
LAST-MODIFIED:20250724T191535Z
UID:2028-1754092800-1754179199@tamoievents.com
SUMMARY:Sex in the City - The Ultimate Lingerie Experience ft. Lisa Hyper
DESCRIPTION:
URL:https://tamoievents.com/event/sex-in-the-city-the-ultimate-lingerie-experience-ft-lisa-hyper/
LOCATION:D’Lux Lounge\, 1A Caledonia Ave.\, Kingston 5\, Jamaica
CATEGORIES:Jamaica
END:VEVENT
BEGIN:VEVENT
DTSTART;TZID=UTC:20250801T200000
DTEND;TZID=UTC:20250806T235900
DTSTAMP:20260425T104029
CREATED:20250701T034823Z
LAST-MODIFIED:20250701T034823Z
UID:1972-1754078400-1754524740@tamoievents.com
SUMMARY:Freedom Vibes - Negril Emancipendence Celebration 2025
DESCRIPTION:
URL:https://tamoievents.com/event/freedom-vibes-negril-emancipendence-celebration-2025/
LOCATION:Negril Jamaica\, negril\, Jamaica
CATEGORIES:Jamaica
END:VEVENT
END:VCALENDAR