BEGIN:VCALENDAR
VERSION:2.0
PRODID:-//Tamoievents.com - ECPv6.15.20//NONSGML v1.0//EN
CALSCALE:GREGORIAN
METHOD:PUBLISH
X-WR-CALNAME:Tamoievents.com
X-ORIGINAL-URL:https://tamoievents.com
X-WR-CALDESC:Events for Tamoievents.com
REFRESH-INTERVAL;VALUE=DURATION:PT1H
X-Robots-Tag:noindex
X-PUBLISHED-TTL:PT1H
BEGIN:VTIMEZONE
TZID:UTC
BEGIN:STANDARD
TZOFFSETFROM:+0000
TZOFFSETTO:+0000
TZNAME:UTC
DTSTART:20220101T000000
END:STANDARD
END:VTIMEZONE
BEGIN:VTIMEZONE
TZID:America/Halifax
BEGIN:DAYLIGHT
TZOFFSETFROM:-0400
TZOFFSETTO:-0300
TZNAME:ADT
DTSTART:20230312T060000
END:DAYLIGHT
BEGIN:STANDARD
TZOFFSETFROM:-0300
TZOFFSETTO:-0400
TZNAME:AST
DTSTART:20231105T050000
END:STANDARD
BEGIN:DAYLIGHT
TZOFFSETFROM:-0400
TZOFFSETTO:-0300
TZNAME:ADT
DTSTART:20240310T060000
END:DAYLIGHT
BEGIN:STANDARD
TZOFFSETFROM:-0300
TZOFFSETTO:-0400
TZNAME:AST
DTSTART:20241103T050000
END:STANDARD
BEGIN:DAYLIGHT
TZOFFSETFROM:-0400
TZOFFSETTO:-0300
TZNAME:ADT
DTSTART:20250309T060000
END:DAYLIGHT
BEGIN:STANDARD
TZOFFSETFROM:-0300
TZOFFSETTO:-0400
TZNAME:AST
DTSTART:20251102T050000
END:STANDARD
END:VTIMEZONE
BEGIN:VTIMEZONE
TZID:America/New_York
BEGIN:DAYLIGHT
TZOFFSETFROM:-0500
TZOFFSETTO:-0400
TZNAME:EDT
DTSTART:20220313T070000
END:DAYLIGHT
BEGIN:STANDARD
TZOFFSETFROM:-0400
TZOFFSETTO:-0500
TZNAME:EST
DTSTART:20221106T060000
END:STANDARD
BEGIN:DAYLIGHT
TZOFFSETFROM:-0500
TZOFFSETTO:-0400
TZNAME:EDT
DTSTART:20230312T070000
END:DAYLIGHT
BEGIN:STANDARD
TZOFFSETFROM:-0400
TZOFFSETTO:-0500
TZNAME:EST
DTSTART:20231105T060000
END:STANDARD
BEGIN:DAYLIGHT
TZOFFSETFROM:-0500
TZOFFSETTO:-0400
TZNAME:EDT
DTSTART:20240310T070000
END:DAYLIGHT
BEGIN:STANDARD
TZOFFSETFROM:-0400
TZOFFSETTO:-0500
TZNAME:EST
DTSTART:20241103T060000
END:STANDARD
END:VTIMEZONE
BEGIN:VEVENT
DTSTART;TZID=UTC:20250524T140000
DTEND;TZID=UTC:20250524T210000
DTSTAMP:20260424T050027
CREATED:20250514T141410Z
LAST-MODIFIED:20250514T202421Z
UID:1854-1748095200-1748120400@tamoievents.com
SUMMARY:2025 Clermont Reggae Fest
DESCRIPTION:
URL:https://tamoievents.com/event/2025-clermont-reggae-fest/
LOCATION:RAS STATE\, 9117 Jack Underwood Rd\, Clermont\, FL\, United States
CATEGORIES:Festival,Festival
ATTACH;FMTTYPE=image/jpeg:https://tamoievents.com/wp-content/uploads/2025/05/2025-Clermont-Reggae-Fest-e1747253633366.jpg
END:VEVENT
BEGIN:VEVENT
DTSTART;TZID=UTC:20250518T150000
DTEND;TZID=UTC:20250518T220000
DTSTAMP:20260424T050027
CREATED:20250125T172523Z
LAST-MODIFIED:20250514T221600Z
UID:1669-1747580400-1747605600@tamoievents.com
SUMMARY:Essence Palm Beach - All White
DESCRIPTION: 
URL:https://tamoievents.com/event/essence-palm-beach-all-white/
LOCATION:FL
CATEGORIES:Florida,Party
ATTACH;FMTTYPE=image/jpeg:https://tamoievents.com/wp-content/uploads/2025/01/Essence-Early-Bird-1-e1741822505360.jpg
END:VEVENT
BEGIN:VEVENT
DTSTART;TZID=UTC:20250511T140000
DTEND;TZID=UTC:20250511T220000
DTSTAMP:20260424T050027
CREATED:20250308T063637Z
LAST-MODIFIED:20250308T064521Z
UID:1759-1746972000-1747000800@tamoievents.com
SUMMARY:The Art of Music - Festival
DESCRIPTION:
URL:https://tamoievents.com/event/the-art-of-music-festival/
LOCATION:Sunset Cove Amphitheater\, 20405 Amphitheater Circle\, Boca Raton\, FL\, 33498\, United States
CATEGORIES:Festival,Florida
ATTACH;FMTTYPE=image/jpeg:https://tamoievents.com/wp-content/uploads/2025/03/IMG_20250307_215913_237-e1741416222591.jpg
END:VEVENT
BEGIN:VEVENT
DTSTART;TZID=UTC:20250510T070000
DTEND;TZID=UTC:20250510T120000
DTSTAMP:20260424T050027
CREATED:20250330T154149Z
LAST-MODIFIED:20250331T151427Z
UID:1774-1746860400-1746878400@tamoievents.com
SUMMARY:Jamaica Hi-5K Run: Miramar
DESCRIPTION:“The Jamaica High5 Foundation\, in partnership with the Jamaican Consulate Southeastern United States\, presents the sixth annual Jamaica Hi-5K Walk/Run event. Hosted by Mayor Wayne Messam and Consul General Oliver Mair\, this dynamic event celebrates health\, community\, and Jamaican culture.” \n  \nWalk/ Run/ Attend — The Choice is yours \nThis Hi-5K Walk/Run is designed to raise funds for the Adopt-a-Clinic initiative by the Ministry of Health in Jamaica. Proceeds from the Hi-5 Run/Walk will go directly to benefit 5 medical clinics across the island.
URL:https://tamoievents.com/event/jamaica-hi-5k-run-miramar/
LOCATION:Miramar Regional Park\, 16801 Miramar Pkwy\, Miramar\, FL\, 33027\, United States
CATEGORIES:Event,Florida
ATTACH;FMTTYPE=image/jpeg:https://tamoievents.com/wp-content/uploads/2025/03/race144146-social1200x630.bKaG5J-e1743433957831.jpg
END:VEVENT
BEGIN:VEVENT
DTSTART;TZID=UTC:20250504T080000
DTEND;TZID=UTC:20250504T123000
DTSTAMP:20260424T050027
CREATED:20250331T042246Z
LAST-MODIFIED:20250331T042248Z
UID:1793-1746345600-1746361800@tamoievents.com
SUMMARY:Spin for a Cause FUNDRAISER
DESCRIPTION:
URL:https://tamoievents.com/event/spin-for-a-cause-fundraiser/
LOCATION:West Melbourne Community Park\, 3000 Minton Rd.\, West Melbourne\, United States
CATEGORIES:Event,Florida
ATTACH;FMTTYPE=image/jpeg:https://tamoievents.com/wp-content/uploads/2025/03/IMG_20250331_001355_424-1-e1743394903147.jpg
END:VEVENT
BEGIN:VEVENT
DTSTART;TZID=UTC:20250503T200000
DTEND;TZID=UTC:20250503T200000
DTSTAMP:20260424T050027
CREATED:20250410T124542Z
LAST-MODIFIED:20250410T164956Z
UID:1802-1746302400-1746302400@tamoievents.com
SUMMARY:Chronic Law - in Orlando
DESCRIPTION:Supa D Promotions Presents
URL:https://tamoievents.com/event/chronic-law-in-orlando/
LOCATION:Majestic Event Center\, 801 JohnYoung Pkwy\, Orlando\, FL\, 32804\, United States
CATEGORIES:Event,Florida
ATTACH;FMTTYPE=image/jpeg:https://tamoievents.com/wp-content/uploads/2025/04/Chronic-Law-1-1-e1744301476531.jpg
END:VEVENT
BEGIN:VEVENT
DTSTART;TZID=UTC:20250503T100000
DTEND;TZID=UTC:20250503T230000
DTSTAMP:20260424T050027
CREATED:20250125T040019Z
LAST-MODIFIED:20250125T145008Z
UID:1655-1746266400-1746313200@tamoievents.com
SUMMARY:BTN MUSIC FESTIVAL 2025
DESCRIPTION:  \nBRING THE NOISE (B.T.N) 5th Anniversary: Car\, Truck\, and Bike Show & Music Festival \nGet ready for the ultimate celebration of music\, machines\, and entertainment! The 5th Annual BRING THE NOISE (B.T.N) is bringing together car enthusiasts\, music lovers\, and thrill-seekers for an unforgettable day. \n  \n  \nEvent Details \nVenue: St. Lucie County Fairgrounds \nDate: Saturday\, May 3rd\, 2025 \nOutdoor Event: 10:00 AM – 3:00 PM \nLive Music Concert: 4:00 PM – 11:00 PM
URL:https://tamoievents.com/event/btn-music-festival-2025/
LOCATION:St Lucie Fairgrounds\, 15601 W MIDWAY RD\, Fort Pierce\, FL\, 34945\, United States
CATEGORIES:Festival,Florida
ATTACH;FMTTYPE=image/jpeg:https://tamoievents.com/wp-content/uploads/2025/01/btn-music-fest-psl-e1737816538506.jpg
END:VEVENT
BEGIN:VEVENT
DTSTART;TZID=UTC:20250413T150000
DTEND;TZID=UTC:20250413T210000
DTSTAMP:20260424T050027
CREATED:20250410T181524Z
LAST-MODIFIED:20250410T181524Z
UID:1813-1744556400-1744578000@tamoievents.com
SUMMARY:WestSide FiyAH Festival
DESCRIPTION:A Poetic Drum Circle and Communion
URL:https://tamoievents.com/event/westside-fiyah-festival/
LOCATION:3311 N Powers Dr. Orlando Fl
CATEGORIES:Event,Florida
ATTACH;FMTTYPE=image/jpeg:https://tamoievents.com/wp-content/uploads/2025/04/IMG_20250410_140059_682-e1744308909384.jpg
END:VEVENT
BEGIN:VEVENT
DTSTART;TZID=UTC:20250330T190000
DTEND;TZID=UTC:20250330T233000
DTSTAMP:20260424T050027
CREATED:20250208T142423Z
LAST-MODIFIED:20250208T142424Z
UID:1689-1743361200-1743377400@tamoievents.com
SUMMARY:The 42nd Annual IRAWMA (International Reggae and World Music Awards)
DESCRIPTION:
URL:https://tamoievents.com/event/the-42nd-annual-irawma-international-reggae-and-world-music-awards/
LOCATION:Coral Springs Center for the Arts\, 2855 Coral Springs Dr.\, Coral Springs\, FL\, 33065\, United States
CATEGORIES:Awards Show
ATTACH;FMTTYPE=image/webp:https://tamoievents.com/wp-content/uploads/2025/02/smaller-irawma-logo.webp
END:VEVENT
BEGIN:VEVENT
DTSTART;TZID=UTC:20250315T210000
DTEND;TZID=UTC:20250316T020000
DTSTAMP:20260424T050027
CREATED:20250207T221035Z
LAST-MODIFIED:20250312T230740Z
UID:1680-1742072400-1742090400@tamoievents.com
SUMMARY:Dj Sonny's All White Birthday Celebration - 2025
DESCRIPTION:
URL:https://tamoievents.com/event/dj-sonnys-all-white-birthday-celebration-2025/
LOCATION:FL
CATEGORIES:Florida,Party
ATTACH;FMTTYPE=image/png:https://tamoievents.com/wp-content/uploads/2025/02/sonny-updated--e1741820818154.png
END:VEVENT
BEGIN:VEVENT
DTSTART;TZID=UTC:20250314T210000
DTEND;TZID=UTC:20250315T040000
DTSTAMP:20260424T050027
CREATED:20250216T034827Z
LAST-MODIFIED:20250216T034828Z
UID:1729-1741986000-1742011200@tamoievents.com
SUMMARY:VIBES PARTY - Dj Redwood Birthday Celebration
DESCRIPTION:
URL:https://tamoievents.com/event/vibes-party-dj-redwood-birthday-celebration/
LOCATION:AURA Lounge\, 1916 Hollywood Blvd.\, Hollywood\, FL\, 33020\, United States
CATEGORIES:Florida,Party
ATTACH;FMTTYPE=image/jpeg:https://tamoievents.com/wp-content/uploads/2025/02/Redwood-bday-party-e1739677671768.jpg
END:VEVENT
BEGIN:VEVENT
DTSTART;TZID=UTC:20250308T200000
DTEND;TZID=UTC:20250308T233000
DTSTAMP:20260424T050027
CREATED:20250308T015952Z
LAST-MODIFIED:20250308T020203Z
UID:1742-1741464000-1741476600@tamoievents.com
SUMMARY:Determine's Life Celebration - presented by Chandylocks
DESCRIPTION:Honoring the life of Rohan Bennett
URL:https://tamoievents.com/event/determines-birthday-celebration-presented-by-chandylocks/
LOCATION:The Spot\, 16905 US 27\, Lake Wales\, FL\, 33859\, United States
CATEGORIES:Event,Florida
END:VEVENT
BEGIN:VEVENT
DTSTART;TZID=UTC:20250308T120000
DTEND;TZID=UTC:20250308T180000
DTSTAMP:20260424T050027
CREATED:20250308T061845Z
LAST-MODIFIED:20250308T061943Z
UID:1754-1741435200-1741456800@tamoievents.com
SUMMARY:Supa Jamz BBQ & Cook-Off Fundraiser
DESCRIPTION:
URL:https://tamoievents.com/event/supa-jamz-bbq-cook-off-fundraiser/
LOCATION:Supa Jamaz Radio\, 1860 Old Okeechobee Blvd\, West Palm Beach\, FL\, 33409\, United States
CATEGORIES:Event,Florida
ATTACH;FMTTYPE=image/jpeg:https://tamoievents.com/wp-content/uploads/2025/03/IMG_20250307_225835_088-1-e1741414666129.jpg
END:VEVENT
BEGIN:VEVENT
DTSTART;TZID=UTC:20250302T160000
DTEND;TZID=UTC:20250302T220000
DTSTAMP:20260424T050027
CREATED:20250216T012735Z
LAST-MODIFIED:20250216T012737Z
UID:1722-1740931200-1740952800@tamoievents.com
SUMMARY:The RAE TOWN Experience
DESCRIPTION:
URL:https://tamoievents.com/event/the-rae-town-experience/
LOCATION:Tropix IRIE Beach Bar (Outside Tropix Lounge)\, 2912 S. State Rd 7\, Miramar\, FL\, 33027\, United States
CATEGORIES:Event,Florida,Party
ATTACH;FMTTYPE=image/jpeg:https://tamoievents.com/wp-content/uploads/2025/02/Rae-Town-Experience-Tropix-Lounge-1-e1739669163865.jpg
END:VEVENT
BEGIN:VEVENT
DTSTART;TZID=UTC:20250222T190000
DTEND;TZID=UTC:20250223T020000
DTSTAMP:20260424T050027
CREATED:20250220T165720Z
LAST-MODIFIED:20250220T165722Z
UID:1735-1740250800-1740276000@tamoievents.com
SUMMARY:Benefit Concert for Reggae Legend - Lt. STITCHIE
DESCRIPTION:
URL:https://tamoievents.com/event/benefit-concert-for-reggae-legend-lt-stitchie/
LOCATION:Majestic Event Center\, 801 JohnYoung Pkwy\, Orlando\, FL\, 32804\, United States
CATEGORIES:Event,Florida
ATTACH;FMTTYPE=image/jpeg:https://tamoievents.com/wp-content/uploads/2025/02/Lt-Stitchie-Benefit-Concert-1-e1740070602140.jpeg
END:VEVENT
BEGIN:VEVENT
DTSTART;TZID=UTC:20250216T170000
DTEND;TZID=UTC:20250216T235900
DTSTAMP:20260424T050027
CREATED:20250215T233832Z
LAST-MODIFIED:20250215T233834Z
UID:1714-1739725200-1739750340@tamoievents.com
SUMMARY:Sound System Roll Call
DESCRIPTION:Sequence and Hot Steppa \npresents \nSOUND SYSTEM ROLL CALL
URL:https://tamoievents.com/event/sound-system-roll-call/
LOCATION:The Luxurious Banquet Hall\, 3500 NW 15th St\, Lauderhill\, FL\, 33311\, United States
CATEGORIES:Event,Florida
ATTACH;FMTTYPE=image/jpeg:https://tamoievents.com/wp-content/uploads/2025/02/Sound-system-Roll-Call.-Ft-Lauderdale-1-e1739662651146.jpg
END:VEVENT
BEGIN:VEVENT
DTSTART;TZID=UTC:20250201T080000
DTEND;TZID=UTC:20250228T170000
DTSTAMP:20260424T050027
CREATED:20250215T230657Z
LAST-MODIFIED:20250215T231125Z
UID:1709-1738396800-1740762000@tamoievents.com
SUMMARY:Reggae Month South Florida
DESCRIPTION:
URL:https://tamoievents.com/event/reggae-month-south-florida/
LOCATION:South Florida\, Florida
CATEGORIES:Event,Festival,Florida
ATTACH;FMTTYPE=image/png:https://tamoievents.com/wp-content/uploads/2025/02/Reggae-Month-SoFlo-logo-.png
END:VEVENT
BEGIN:VEVENT
DTSTART;TZID=UTC:20241102T120000
DTEND;TZID=UTC:20241102T220000
DTSTAMP:20260424T050027
CREATED:20240814T013320Z
LAST-MODIFIED:20240814T013320Z
UID:1644-1730548800-1730584800@tamoievents.com
SUMMARY:Treasure Coast Caribbean Food & Music Festival (6th Annual)
DESCRIPTION:         The Treasure Coast Celebrates the Caribbean with the 2024 Staging of their annual Event!!\n \nGet Ready for a day of delicious caribbean cuisine and groovy music at the Treasure Coast Caribbean Food & Music Festival \nDetails: November 2nd\, 2024\nVenue: MidFlorida Event Center\, Port St Lucie\, Florida\nWith performances by LUCIANO\, Sailor Jane\, Jahmela Blender\, Ras Fraser Jr.\, Mr. Pearly\, \nHosted by Sir Rockwell// Rohan Gunter \n  \n \n 
URL:https://tamoievents.com/event/treasure-coast-caribbean-food-music-festival-6th-annual/
LOCATION:Mid Florida Event Center\, 9221 SE Event Center Pl\, Port St Lucie\, FL\, 34952\, United States
CATEGORIES:Festival,Festival,Florida
END:VEVENT
BEGIN:VEVENT
DTSTART;TZID=UTC:20240914T210000
DTEND;TZID=UTC:20240915T020000
DTSTAMP:20260424T050027
CREATED:20240710T023839Z
LAST-MODIFIED:20240710T023839Z
UID:1568-1726347600-1726365600@tamoievents.com
SUMMARY:FEVER:  the girl code edition
DESCRIPTION:FEVER: the girl code edition \nLocation: Polish American Social Club \n343 NWPrima Vista Blvd\, Port St. Lucie FL\,34883 \nSaturday\, Sept 14th 2024
URL:https://tamoievents.com/event/fever-the-girl-code-edition/
LOCATION:Polish American Social Club\, 343 NW Prima Vista Blvd\, Port St Lucie\, FL\, 34983\, United States
CATEGORIES:Florida,Party
END:VEVENT
BEGIN:VEVENT
DTSTART;TZID=UTC:20240803T150000
DTEND;TZID=UTC:20240803T230000
DTSTAMP:20260424T050027
CREATED:20240801T185929Z
LAST-MODIFIED:20240801T185929Z
UID:1622-1722697200-1722726000@tamoievents.com
SUMMARY:Jamaica Ole Time Fair - Miramar Emancipendence Celebration
DESCRIPTION: Ole Time Fair\n(free event) \nCelebrate Jamaica’s Independence with the City of Miramar! \nParking Costs $10.00 \n\n 
URL:https://tamoievents.com/event/jamaica-ole-time-fair-miramar-emancipendence-celebration/
LOCATION:Mirimar Regional Park\, 16801 Miramar Pkwy\, Miramar\, FL\, 33027\, United States
CATEGORIES:Event,Florida
END:VEVENT
BEGIN:VEVENT
DTSTART;TZID=UTC:20240803T140000
DTEND;TZID=UTC:20240803T220000
DTSTAMP:20260424T050027
CREATED:20240705T045644Z
LAST-MODIFIED:20240707T105221Z
UID:1533-1722693600-1722722400@tamoievents.com
SUMMARY:Palm Beach Jamaica Independence Festival 2024 (#JamminFest)
DESCRIPTION:A Few Good Men Entertainment \npresents \nPalm Beach Jamaica Independence Festival\nCelebrate Jamaica’s independence with a day filled with vibrant music\, delicious food\, and exciting cultural activities. \nLocation: Wellington Amphitheater\, Wellington\, FL\, USA \n12100 Forest Hill Boulevard Wellington\, FL 33414 \n  \n 
URL:https://tamoievents.com/event/palm-beach-jamaica-independence-festival-2024-jamminfest/
LOCATION:Wellington Park Amphitheatre\, 12100 Forest Hill Blvd\, Wellington\, FL\, 33414\, United States
CATEGORIES:Festival,Florida
END:VEVENT
BEGIN:VEVENT
DTSTART;TZID=America/Halifax:20240803T140000
DTEND;TZID=America/Halifax:20240803T210000
DTSTAMP:20260424T050027
CREATED:20240707T073420Z
LAST-MODIFIED:20240707T172011Z
UID:1540-1722693600-1722718800@tamoievents.com
SUMMARY:Jamaican Independence Day Celebration in Port St Lucie\, FL
DESCRIPTION: R & D Family Enterprises \npresents \nThe 6th Annual Jamaican Independence Day Celebration\nLocation: Clover Field Park – 31 Piazza Dr.\, Port St. Lucie\, Fl 34986 \nWith Live Performances\, Tournaments and Cultural Contests for the whole family!! \n \nEvent Flyer- 6th Annual Jamaican Independence Day Celebration -PSL
URL:https://tamoievents.com/event/jamaican-independence-day-celebration-in-port-st-lucie-fl/
LOCATION:Clover Field Park @ the METS Stadium\, 31 Piazza Dr.\, Port St Lucie\, 34986\, United States
CATEGORIES:Festival,Florida
END:VEVENT
BEGIN:VEVENT
DTSTART;TZID=UTC:20240803T000000
DTEND;TZID=UTC:20240803T235959
DTSTAMP:20260424T050027
CREATED:20240721T041514Z
LAST-MODIFIED:20240721T041514Z
UID:1610-1722643200-1722729599@tamoievents.com
SUMMARY:Sex in the City - party
DESCRIPTION:Şēx iຖ thē ¢itฯ\nLingerie Edition \n  \n 
URL:https://tamoievents.com/event/sex-in-the-city-party/
LOCATION:D’Lux Lounge\, 1A Caledonia Ave.\, Kingston 5\, Jamaica
CATEGORIES:Florida,Party
END:VEVENT
BEGIN:VEVENT
DTSTART;TZID=UTC:20240802T180000
DTEND;TZID=UTC:20240802T233000
DTSTAMP:20260424T050027
CREATED:20240801T191856Z
LAST-MODIFIED:20240801T191856Z
UID:1628-1722621600-1722641400@tamoievents.com
SUMMARY:Jamaica 62nd Pre-Independence Day FETE
DESCRIPTION:Jamaica 62nd Pre-Independence Day FETE\n(Free Admission) \n\n\nExperience Jamaica’s sound system culture at the 62nd Pre-Independence Day Fete \n\n\n\n\n\n\n\n\n\n\n\n\nPresented by Vice Mayor :Alexandra P. Davis (City of Miramar)
URL:https://tamoievents.com/event/jamaica-62nd-pre-independence-day-fete/
LOCATION:Jamaica 62nd Pre-Independence Day FETE\, 7000 Miramar Parkway\, Miramar\, FL\, 33025\, United States
CATEGORIES:Event,Florida
END:VEVENT
BEGIN:VEVENT
DTSTART;TZID=UTC:20240727T000000
DTEND;TZID=UTC:20240727T235959
DTSTAMP:20260424T050027
CREATED:20240721T023652Z
LAST-MODIFIED:20240721T030031Z
UID:1603-1722038400-1722124799@tamoievents.com
SUMMARY:Portmore Link-Up
DESCRIPTION:ᴘᴏʀᴛᴍᴏʀᴇ ʟɪɴᴋ-ᴜᴘ\n  𝕿𝖍𝖊 𝕯𝖆𝖓𝖈𝖊𝖍𝖆𝖑𝖑 𝕼𝖚𝖊𝖊𝖓\nᴇᴅɪᴛɪᴏɴ\n \n  \n 
URL:https://tamoievents.com/event/portmore-link-up/
LOCATION:Empire Lounge\, 3111 45th Street\, West Palm Beach\, FL\, 33407\, United States
CATEGORIES:Florida,Party
END:VEVENT
BEGIN:VEVENT
DTSTART;TZID=UTC:20240720T180000
DTEND;TZID=UTC:20240720T220000
DTSTAMP:20260424T050027
CREATED:20240710T031024Z
LAST-MODIFIED:20240710T031024Z
UID:1577-1721498400-1721512800@tamoievents.com
SUMMARY:Steel Pulse w/ Jesse Royal - Apopka
DESCRIPTION:Steel Pulse w/ Jesse Royal – Apopka \nVenue: Apopka Amphitheater \n3710 Jason Dwelley Parkway\, Apopka\, FL 32712
URL:https://tamoievents.com/event/steel-pulse-w-jesse-royal-apopka/
LOCATION:FL
CATEGORIES:Festival,Festival,Florida
END:VEVENT
BEGIN:VEVENT
DTSTART;TZID=UTC:20240714T140000
DTEND;TZID=UTC:20240714T210000
DTSTAMP:20260424T050027
CREATED:20240710T032728Z
LAST-MODIFIED:20240710T034643Z
UID:1581-1720965600-1720990800@tamoievents.com
SUMMARY:Utopia Island Picnic
DESCRIPTION:Utopia-IslandPicnic \nA Caribbean music & Cultural Event \nLocation: The Promenade Lawn \n190 E 13th Street.\, Riviera Beach FL
URL:https://tamoievents.com/event/utopia-island-picnic/
LOCATION:The Promenade Lawn\, 190 E 13TH STREET\, Riviera Beach\, FL\, 33404\, United States
CATEGORIES:Event,Florida
END:VEVENT
BEGIN:VEVENT
DTSTART;TZID=America/New_York:20231119T140000
DTEND;TZID=America/New_York:20231119T220000
DTSTAMP:20260424T050027
CREATED:20231024T233039Z
LAST-MODIFIED:20231105T210621Z
UID:801-1700402400-1700431200@tamoievents.com
SUMMARY:Florida Jerk & Music Festival 2023 - Orlando
DESCRIPTION:Caribbean Recording Artists Luciano\, Destra & Ding Dong will be Taking Over Orlando for The Florida Jerk & Music Festival   \n  \n(Orlando\, FL) – This year’s Florida Jerk & Music Festival: Orlando Edition will be celebrating world-renowned music and the delicious international cuisine of the Caribbean during its 10th Anniversary music and food event taking place on Sunday\, November 19\, 2023\, from 2PM – 10PM at Orlando Festival Park located at 2911 E Robinson Street\, Orlando\, FL 32803. \n  \nOver the past 10 years\, the Florida Jerk Festival has evolved into one of Florida’s largest and most-recognized family-friendly Caribbean music and foodie events\, featuring a memorable array of fun activations\, dynamic live entertainment and captivating\, delicious foods that has continued to leave lasting impressions with festival attendees. \n\nThis year’s highly anticipated festival activations and entertainment include: \n\nLive performances from Caribbean sensations Luciano\, Destra\, and Ding Dong promising an extraordinary musical journey through soulful reggae\, sizzling Soca\, and sensational Dancehall\nKid Zone that includes engaging fun activities for all aged children\n\n“We are excited to be hosting the 10th Annual Florida Jerk Festival” says Damian Tater\, CEO of Full-A-Vybez and creator of this event. “To celebrate this milestone\, we have decided to make a few changes. One being the focus of the event now being on the fabulously varied musical genre that the Caribbean has produced throughout the years.  On stage for this event we have a eclectic selection of soulful reggae\, sizzling Soca and sensational Dancehall.  It’s going to be an amazing afternoon to just relax and absorb the music of the islands. \n\nThis year\, children 12 years of age and under are free. Early bird ticket pricing is now available at $50 for general admission\, $60 for kids VIP tickets\, and $160 for VIP Tickets and ends on October 31st. Regular ticket pricing begins on November 1st and is $60 for general admission and $180 for VIP. VIP tickets include access to the all-inclusive VIP bar with unlimited food\, unlimited drinks\, and close to stage proximity. \n\nFor additional information and to purchase tickets\, https://floridajerkfestival.com. \n\nFor media opportunities or inquiries contact info@southpromo.com or 954.560.4812. \n\nAbout Florida Jerk Festival: \nStarted by Full-A-Vybez\, Inc. in 2003\, the Palm Beach & Orlando\, the Florida Jerk Festival\, became the mecca of Caribbean food and culture. Both festivals feature Florida’s top Caribbean restaurants and chefs offering a variety of culinary delights through cooking competitions and our “Jerk Experience”. But it’s not just about the food. Patrons get a healthy serving of history\, culture\, and entertainment on the cultural stage. As a family event\, we also ensure that kids are kept entertained at the Kid’s Zone. The events culminate with guest performers that cater to the diverse audience that attend the events each year. Attendees are in store for a large variety of food vendors\, live music\, dance\, and fun activities — this is the perfect place to kick back and enjoy the culture. 
URL:https://tamoievents.com/event/florida-jerk-music-festival-2023-orlando/
LOCATION:Orlando Festival Park\, 2911 E Robinson St\, Orlando\, FL\, 32803\, United States
CATEGORIES:Festival,Florida
END:VEVENT
BEGIN:VEVENT
DTSTART;TZID=UTC:20231112T130000
DTEND;TZID=UTC:20231112T220000
DTSTAMP:20260424T050027
CREATED:20231024T031305Z
LAST-MODIFIED:20231105T205823Z
UID:792-1699794000-1699826400@tamoievents.com
SUMMARY:Grace Jamaican Jerk Festival
DESCRIPTION:Grace Jamaican Jerk Festival 2023\nTHE GRACE JAMAICAN JERK FESTIVAL CELEBRATES 21 YEARS OF SHOWCASING CARIBBEAN FOOD\, MUSIC AND CULTURE ON NOVEMBER 12\, 2023\n South Florida’s most popular Caribbean food festival returns to Miramar Amphitheatre\n\nMiramar\, FL (August 23\, 2023) – On Sunday\, November 12\, 2023\, 2pm-10pm\, get ready to savor the authentic island flavors\, feel the rhythm\, and embrace the vibrant spirit of the Caribbean at the 21st Annual Grace Jamaican Jerk Festival (GJJF)\, an epic and cultural event like no other. Set against the picturesque backdrop of Miramar Regional Park at 16801 Miramar Pkwy\, Miramar\, Fl 33027\, this festival promises an unforgettable experience for an anticipated 10\,000 attendees. GJJF is a chance to experience the rich tapestry of Caribbean culture through music\, dance\, and art.\n\nFrom succulent jerk chicken to tender jerk lobster\, this festival is a gastronomic delight for food enthusiasts who can anticipate a sensory journey through the heart of the Caribbean. The festival features an expansive food court with vendors offering an assortment of jerk cuisine such as jerk pork\, jerked fish\, jerk lobster\, along with Jamaican favorites fried festival\, oxtails\, curry goat\, escovitch fish\, roasted corn\, as well as other tasty delights.  GJJF will also offer exciting games and activities for the kids.\n\nPerformances\nThough the food is the star of the show\, attendees can enjoy a live performance by the two-time Grammy winning Royal Family of reggae Morgan Heritage\, who will provide the soundtrack and vibes for a day filled with dancing\, fun\, and food..\n\n“South Florida is home to the largest Caribbean population in the United States. The Grace Jamaican Jerk Festival reminds us of the significant\, delicious and positive impact the Caribbean has on the American culture\,” states GJJF Managing Partner and CEO Eddy Edwards. “Over the past 21 years\, the festival has evolved to incorporate other wonderful Caribbean cultures and attract people from all over the world. This event is a family-friendly\, interactive\, intergenerational celebration where each family member can eat well and have fun.”\nPartnerships\nThe Grace Jamaican Jerk Festival\, presented in partnership with Publix\, City of Miramar\, Western Union\, Jamaica Tourist Board\, Greater Ft. Lauderdale Visitors and Conventions Bureau\, The National Weekly\, WAVS 1170 AM and HOT 105 FM\, is more than just a culinary adventure; it’s a cultural immersion.\nGeneral admission tickets are available for $35 until September 30\, $40 from October 1 to November 11\, and $50 at the gate on show date. VIP tickets are $175. Kids under 10 are free to attend.\n\nTo purchase tickets and for more information\, visit www.jerkfestival.com\,\n\nMedia contact: Suzan McDowell\, suzan@circleofonemarketing.com or 305-576-3790\n\n\nAbout Jamaican Jerk Festival USA\, Inc.\n\nThe Jamaican Jerk Festival USA\, Inc. develops and produces Jerk festivals and related events throughout the United States and other global markets. The annual festivals in Miramar\, Florida\, and Queens\, New York\, are major events attracting all ethnicities and key demographics.
URL:https://tamoievents.com/event/grace-jamaican-jerk-festival/
LOCATION:Miramar Regional Park\, 16801 Miramar Pkwy\, Miramar\, FL\, 33027\, United States
CATEGORIES:Festival,Florida
END:VEVENT
END:VCALENDAR